BEGIN:VCALENDAR
VERSION:2.0
PRODID:-//IRTS PACA Corse - ECPv6.11.2//NONSGML v1.0//EN
CALSCALE:GREGORIAN
METHOD:PUBLISH
X-WR-CALNAME:IRTS PACA Corse
X-ORIGINAL-URL:https://www.irts-pacacorse.com
X-WR-CALDESC:Évènements pour IRTS PACA Corse
REFRESH-INTERVAL;VALUE=DURATION:PT1H
X-Robots-Tag:noindex
X-PUBLISHED-TTL:PT1H
BEGIN:VTIMEZONE
TZID:Europe/Paris
BEGIN:DAYLIGHT
TZOFFSETFROM:+0100
TZOFFSETTO:+0200
TZNAME:CEST
DTSTART:20240331T010000
END:DAYLIGHT
BEGIN:STANDARD
TZOFFSETFROM:+0200
TZOFFSETTO:+0100
TZNAME:CET
DTSTART:20241027T010000
END:STANDARD
END:VTIMEZONE
BEGIN:VEVENT
DTSTART;TZID=Europe/Paris:20240120T100000
DTEND;TZID=Europe/Paris:20240120T170000
DTSTAMP:20260422T095330
CREATED:20231128T125837Z
LAST-MODIFIED:20231128T125837Z
UID:1168-1705744800-1705770000@www.irts-pacacorse.com
SUMMARY:JOURNEE PORTES OUVERTES A L'IRTS PACA CORSE
DESCRIPTION:Portes ouvertes de l’IRTS PACA Corse\n Vous souhaitez vous former aux métiers du Travail social ? Venez nous rencontrer pour en savoir davantage sur les inscriptions\, le déroulé et le contenu pédagogique de chaque formation ! \nle samedi 20 janvier 2024\nde 10h à 17h à IRTS PACA Corse 20 bd des Salyens 13008 Marseille\nInscription gratuite EN CLIQUANT ICI\n\n Au plaisir de vous accueillir !
URL:https://www.irts-pacacorse.com/evenement/journee-portes-ouvertes-a-lirts-paca-corse/
LOCATION:20 bd des salyens 13008 Marseille
END:VEVENT
END:VCALENDAR