BEGIN:VCALENDAR
VERSION:2.0
PRODID:-//IRTS PACA Corse - ECPv6.11.2//NONSGML v1.0//EN
CALSCALE:GREGORIAN
METHOD:PUBLISH
X-ORIGINAL-URL:https://www.irts-pacacorse.com
X-WR-CALDESC:Évènements pour IRTS PACA Corse
REFRESH-INTERVAL;VALUE=DURATION:PT1H
X-Robots-Tag:noindex
X-PUBLISHED-TTL:PT1H
BEGIN:VTIMEZONE
TZID:Europe/Paris
BEGIN:DAYLIGHT
TZOFFSETFROM:+0100
TZOFFSETTO:+0200
TZNAME:CEST
DTSTART:20240331T010000
END:DAYLIGHT
BEGIN:STANDARD
TZOFFSETFROM:+0200
TZOFFSETTO:+0100
TZNAME:CET
DTSTART:20241027T010000
END:STANDARD
END:VTIMEZONE
BEGIN:VEVENT
DTSTART;TZID=Europe/Paris:20240122T170000
DTEND;TZID=Europe/Paris:20240122T183000
DTSTAMP:20260422T095553
CREATED:20231128T124409Z
LAST-MODIFIED:20231128T124409Z
UID:1156-1705942800-1705948200@www.irts-pacacorse.com
SUMMARY:Réunion d'info CAFDES (visioconférence)
DESCRIPTION:Réunion information collective CAFDES :\nRéunions d’information en visio-conférence\nInscription en cliquant sur le bouton ci-dessous.  Vous recevrez suite à votre inscription un lien de connexion par mail.
URL:https://www.irts-pacacorse.com/evenement/reunion-dinfo-cafdes-visioconference-5/
LOCATION:Visio-conférence
END:VEVENT
END:VCALENDAR