BEGIN:VCALENDAR
VERSION:2.0
PRODID:-//IRTS PACA Corse - ECPv6.11.2//NONSGML v1.0//EN
CALSCALE:GREGORIAN
METHOD:PUBLISH
X-WR-CALNAME:IRTS PACA Corse
X-ORIGINAL-URL:https://www.irts-pacacorse.com
X-WR-CALDESC:Évènements pour IRTS PACA Corse
REFRESH-INTERVAL;VALUE=DURATION:PT1H
X-Robots-Tag:noindex
X-PUBLISHED-TTL:PT1H
BEGIN:VTIMEZONE
TZID:Europe/Paris
BEGIN:DAYLIGHT
TZOFFSETFROM:+0100
TZOFFSETTO:+0200
TZNAME:CEST
DTSTART:20240331T010000
END:DAYLIGHT
BEGIN:STANDARD
TZOFFSETFROM:+0200
TZOFFSETTO:+0100
TZNAME:CET
DTSTART:20241027T010000
END:STANDARD
END:VTIMEZONE
BEGIN:VEVENT
DTSTART;TZID=Europe/Paris:20240123T123000
DTEND;TZID=Europe/Paris:20240123T133000
DTSTAMP:20260422T095331
CREATED:20240115T101733Z
LAST-MODIFIED:20240116T083130Z
UID:1764-1706013000-1706016600@www.irts-pacacorse.com
SUMMARY:CVE Les Flamants
DESCRIPTION:L’Objectif de cette instance est de renforcer la représentativité et la participation des étudiants dans la vie institutionnelle\, et de favoriser leur prise d’initiative. \nTous les étudiants sont invités\, et\, selon leur choix et leur organisation\, seront présents les délégués et/ou les étudiants des différentes promotions\, autour de pizzas partagées. \nDe même\, afin de favoriser les échanges entre les étudiants et le personnel\, la présence d’au moins un formateur et/ou RCA représentant de chaque centre d’activité est préconisée. \nInscrivez vous sur le lien suivant :\nhttps://forms.office.com/e/B3sLzRZWxt
URL:https://www.irts-pacacorse.com/evenement/cve-les-flamants/
LOCATION:10 avenue Alexandre Ansaldi\, 10 avenue Alexandre Ansaldi\, Marseille\, 13014
END:VEVENT
END:VCALENDAR