BEGIN:VCALENDAR
VERSION:2.0
PRODID:-//IRTS PACA Corse - ECPv6.11.2//NONSGML v1.0//EN
CALSCALE:GREGORIAN
METHOD:PUBLISH
X-ORIGINAL-URL:https://www.irts-pacacorse.com
X-WR-CALDESC:Évènements pour IRTS PACA Corse
REFRESH-INTERVAL;VALUE=DURATION:PT1H
X-Robots-Tag:noindex
X-PUBLISHED-TTL:PT1H
BEGIN:VTIMEZONE
TZID:Europe/Paris
BEGIN:DAYLIGHT
TZOFFSETFROM:+0100
TZOFFSETTO:+0200
TZNAME:CEST
DTSTART:20240331T010000
END:DAYLIGHT
BEGIN:STANDARD
TZOFFSETFROM:+0200
TZOFFSETTO:+0100
TZNAME:CET
DTSTART:20241027T010000
END:STANDARD
END:VTIMEZONE
BEGIN:VEVENT
DTSTART;TZID=Europe/Paris:20240226T140000
DTEND;TZID=Europe/Paris:20240226T150000
DTSTAMP:20260422T065745
CREATED:20240201T110741Z
LAST-MODIFIED:20240201T132905Z
UID:1939-1708956000-1708959600@www.irts-pacacorse.com
SUMMARY:Réunion d'information Educateur spécialisé et Educateur technique spécialisé - en visioconférence
DESCRIPTION:RÉUNION INFORMATION COLLECTIVE Educateur spécialisé et Educateur technique spécialisé :\n  \nLe 13 février 2024 à 14h \nLe 26 février 2024 à 14h \n  \nInscription en cliquant sur le bouton ci-dessous.  \nVous recevrez suite à votre inscription un lien de connexion par mail.\n 
URL:https://www.irts-pacacorse.com/evenement/reunion-dinformation-educateur-specialise-et-educateur-technique-specialise-2/
LOCATION:Visio-conférence
END:VEVENT
END:VCALENDAR