BEGIN:VCALENDAR
VERSION:2.0
PRODID:-//IRTS PACA Corse - ECPv6.11.2//NONSGML v1.0//EN
CALSCALE:GREGORIAN
METHOD:PUBLISH
X-ORIGINAL-URL:https://www.irts-pacacorse.com
X-WR-CALDESC:Évènements pour IRTS PACA Corse
REFRESH-INTERVAL;VALUE=DURATION:PT1H
X-Robots-Tag:noindex
X-PUBLISHED-TTL:PT1H
BEGIN:VTIMEZONE
TZID:Europe/Paris
BEGIN:DAYLIGHT
TZOFFSETFROM:+0100
TZOFFSETTO:+0200
TZNAME:CEST
DTSTART:20240331T010000
END:DAYLIGHT
BEGIN:STANDARD
TZOFFSETFROM:+0200
TZOFFSETTO:+0100
TZNAME:CET
DTSTART:20241027T010000
END:STANDARD
END:VTIMEZONE
BEGIN:VEVENT
DTSTART;TZID=Europe/Paris:20240522T153000
DTEND;TZID=Europe/Paris:20240522T173000
DTSTAMP:20260422T032400
CREATED:20240201T133323Z
LAST-MODIFIED:20240201T133323Z
UID:1954-1716391800-1716399000@www.irts-pacacorse.com
SUMMARY:Réunion d'information Médiateur Familial- en visioconférence
DESCRIPTION:RÉUNION INFORMATION COLLECTIVE MEDIATEUR FAMILIAL:\n\nLe 20/02/2024 à 10h\nLe 12/03/2024 à 15h\nLe 09/04/2024 à 13h30\nLe 22/05/2024 à 15h30\nLe 26/06/2024 à 13h\n\nInscription en cliquant sur le bouton ci-dessous.  \nVous recevrez suite à votre inscription un lien de connexion par mail.\n 
URL:https://www.irts-pacacorse.com/evenement/reunion-dinformation-mediateur-familial-en-visioconference-4/
LOCATION:Visio-conférence
END:VEVENT
END:VCALENDAR