BEGIN:VCALENDAR
VERSION:2.0
PRODID:-//IRTS PACA Corse - ECPv6.11.2//NONSGML v1.0//EN
CALSCALE:GREGORIAN
METHOD:PUBLISH
X-WR-CALNAME:IRTS PACA Corse
X-ORIGINAL-URL:https://www.irts-pacacorse.com
X-WR-CALDESC:Évènements pour IRTS PACA Corse
REFRESH-INTERVAL;VALUE=DURATION:PT1H
X-Robots-Tag:noindex
X-PUBLISHED-TTL:PT1H
BEGIN:VTIMEZONE
TZID:Europe/Paris
BEGIN:DAYLIGHT
TZOFFSETFROM:+0100
TZOFFSETTO:+0200
TZNAME:CEST
DTSTART:20240331T010000
END:DAYLIGHT
BEGIN:STANDARD
TZOFFSETFROM:+0200
TZOFFSETTO:+0100
TZNAME:CET
DTSTART:20241027T010000
END:STANDARD
END:VTIMEZONE
BEGIN:VEVENT
DTSTART;TZID=Europe/Paris:20240603T140000
DTEND;TZID=Europe/Paris:20240603T170000
DTSTAMP:20260422T032223
CREATED:20240530T145648Z
LAST-MODIFIED:20240530T150116Z
UID:2406-1717423200-1717434000@www.irts-pacacorse.com
SUMMARY:Ciné débat - Ivan & Ivana Lundi 03 juin 2024
DESCRIPTION:
URL:https://www.irts-pacacorse.com/evenement/cine-debat-ivan-ivana-lundi-03-juin-2024/
LOCATION:10 avenue Alexandre Ansaldi\, 10 avenue Alexandre Ansaldi\, Marseille\, 13014
END:VEVENT
END:VCALENDAR