BEGIN:VCALENDAR
VERSION:2.0
PRODID:-//IRTS PACA Corse - ECPv6.11.2//NONSGML v1.0//EN
CALSCALE:GREGORIAN
METHOD:PUBLISH
X-ORIGINAL-URL:https://www.irts-pacacorse.com
X-WR-CALDESC:Évènements pour IRTS PACA Corse
REFRESH-INTERVAL;VALUE=DURATION:PT1H
X-Robots-Tag:noindex
X-PUBLISHED-TTL:PT1H
BEGIN:VTIMEZONE
TZID:Europe/Paris
BEGIN:DAYLIGHT
TZOFFSETFROM:+0100
TZOFFSETTO:+0200
TZNAME:CEST
DTSTART:20240331T010000
END:DAYLIGHT
BEGIN:STANDARD
TZOFFSETFROM:+0200
TZOFFSETTO:+0100
TZNAME:CET
DTSTART:20241027T010000
END:STANDARD
END:VTIMEZONE
BEGIN:VEVENT
DTSTART;TZID=Europe/Paris:20240606T140000
DTEND;TZID=Europe/Paris:20240606T170000
DTSTAMP:20260422T015549
CREATED:20240604T080826Z
LAST-MODIFIED:20240604T080826Z
UID:2549-1717682400-1717693200@www.irts-pacacorse.com
SUMMARY:Ciné débat - Kalès Jeudi 06 juin 2024
DESCRIPTION: 
URL:https://www.irts-pacacorse.com/evenement/cine-debat-kales-jeudi-06-juin-2024/
LOCATION:10 avenue Alexandre Ansaldi\, 10 avenue Alexandre Ansaldi\, Marseille\, 13014
END:VEVENT
END:VCALENDAR