BEGIN:VCALENDAR
VERSION:2.0
PRODID:-//IRTS PACA Corse - ECPv6.11.2//NONSGML v1.0//EN
CALSCALE:GREGORIAN
METHOD:PUBLISH
X-WR-CALNAME:IRTS PACA Corse
X-ORIGINAL-URL:https://www.irts-pacacorse.com
X-WR-CALDESC:Évènements pour IRTS PACA Corse
REFRESH-INTERVAL;VALUE=DURATION:PT1H
X-Robots-Tag:noindex
X-PUBLISHED-TTL:PT1H
BEGIN:VTIMEZONE
TZID:Europe/Paris
BEGIN:DAYLIGHT
TZOFFSETFROM:+0100
TZOFFSETTO:+0200
TZNAME:CEST
DTSTART:20240331T010000
END:DAYLIGHT
BEGIN:STANDARD
TZOFFSETFROM:+0200
TZOFFSETTO:+0100
TZNAME:CET
DTSTART:20241027T010000
END:STANDARD
END:VTIMEZONE
BEGIN:VEVENT
DTSTART;TZID=Europe/Paris:20240621T110000
DTEND;TZID=Europe/Paris:20240621T120000
DTSTAMP:20260422T015447
CREATED:20240531T102306Z
LAST-MODIFIED:20240531T102349Z
UID:2419-1718967600-1718971200@www.irts-pacacorse.com
SUMMARY:TISF - Réunion d'information
DESCRIPTION:RÉUNION INFORMATION COLLECTIVE TISF :\n\nLe 21/06/2024 à 11h\n\nInscription en cliquant sur le bouton ci-dessous.  \nVous recevrez suite à votre inscription un lien de connexion par mail.\n 
URL:https://www.irts-pacacorse.com/evenement/tisf-reunion-dinformation/
LOCATION:Visio-conférence
END:VEVENT
END:VCALENDAR