BEGIN:VCALENDAR
VERSION:2.0
PRODID:-//IRTS PACA Corse - ECPv6.11.2//NONSGML v1.0//EN
CALSCALE:GREGORIAN
METHOD:PUBLISH
X-ORIGINAL-URL:https://www.irts-pacacorse.com
X-WR-CALDESC:Évènements pour IRTS PACA Corse
REFRESH-INTERVAL;VALUE=DURATION:PT1H
X-Robots-Tag:noindex
X-PUBLISHED-TTL:PT1H
BEGIN:VTIMEZONE
TZID:Europe/Paris
BEGIN:DAYLIGHT
TZOFFSETFROM:+0100
TZOFFSETTO:+0200
TZNAME:CEST
DTSTART:20240331T010000
END:DAYLIGHT
BEGIN:STANDARD
TZOFFSETFROM:+0200
TZOFFSETTO:+0100
TZNAME:CET
DTSTART:20241027T010000
END:STANDARD
END:VTIMEZONE
BEGIN:VEVENT
DTSTART;TZID=Europe/Paris:20241106T170000
DTEND;TZID=Europe/Paris:20241106T183000
DTSTAMP:20260421T175842
CREATED:20241017T115447Z
LAST-MODIFIED:20241017T115447Z
UID:3606-1730912400-1730917800@www.irts-pacacorse.com
SUMMARY:CAFERUIS - Réunion d'information
DESCRIPTION:RÉUNION INFORMATION COLLECTIVE CAFERUIS :\n\n23 septembre 2024 de 12h à 13h30\n6 novembre 2024 de 17h à 18h30\n10 décembre 2024 de 12h à 13h30\n20 janvier 2025 de 17h à 18h30\n26 février 2025 de 12h à 13h30\n\nInscription en cliquant sur le bouton ci-dessous.  \n\nVous recevrez suite à votre inscription un lien de connexion par mail.\n  \n 
URL:https://www.irts-pacacorse.com/evenement/caferuis-reunion-dinformation-2/
LOCATION:Visio-conférence
END:VEVENT
END:VCALENDAR