BEGIN:VCALENDAR
VERSION:2.0
PRODID:-//IRTS PACA Corse - ECPv6.11.2//NONSGML v1.0//EN
CALSCALE:GREGORIAN
METHOD:PUBLISH
X-WR-CALNAME:IRTS PACA Corse
X-ORIGINAL-URL:https://www.irts-pacacorse.com
X-WR-CALDESC:Évènements pour IRTS PACA Corse
REFRESH-INTERVAL;VALUE=DURATION:PT1H
X-Robots-Tag:noindex
X-PUBLISHED-TTL:PT1H
BEGIN:VTIMEZONE
TZID:Europe/Paris
BEGIN:DAYLIGHT
TZOFFSETFROM:+0100
TZOFFSETTO:+0200
TZNAME:CEST
DTSTART:20250330T010000
END:DAYLIGHT
BEGIN:STANDARD
TZOFFSETFROM:+0200
TZOFFSETTO:+0100
TZNAME:CET
DTSTART:20251026T010000
END:STANDARD
END:VTIMEZONE
BEGIN:VEVENT
DTSTART;TZID=Europe/Paris:20250226T120000
DTEND;TZID=Europe/Paris:20250226T133000
DTSTAMP:20260421T115400
CREATED:20250219T124637Z
LAST-MODIFIED:20250224T153700Z
UID:4187-1740571200-1740576600@www.irts-pacacorse.com
SUMMARY:Réunion d'information collective CAFERUIS - Chef de Service (en visio)
DESCRIPTION:Nos réunions d’information sont l’occasion de : \n\nPoser vos questions sur les conditions d’admission\, les stages\, les financements….\nEchanger avec nos formateurs et notre personnel administratif\n\n  \n\n\n\n\n\n\n\n\n\n\n\n 
URL:https://www.irts-pacacorse.com/evenement/reunion-dinformation-collective-caferuis-en-visio/
CATEGORIES:Réunion d'information collective
END:VEVENT
BEGIN:VEVENT
DTSTART;TZID=Europe/Paris:20250226T120000
DTEND;TZID=Europe/Paris:20250226T133000
DTSTAMP:20260421T115400
CREATED:20250224T122446Z
LAST-MODIFIED:20250224T122446Z
UID:4342-1740571200-1740576600@www.irts-pacacorse.com
SUMMARY:Salon de l'orientation\, de la formation et de l'alternance
DESCRIPTION:Mercredi 26 février 2025 de 14h à 18h\n\n\n\nSalle Guy Obino\, Vitrolles \n\n\n\nVous avez entre 16 et 25 ans\, ce temps est pour vous ! \n\n\n\nComment bien préparer Parcoursup ? Comment construire son projet d’apprentissage ? Parlons-en ! \n\n\n\nVenez nous rencontrer ! Nous serons accompagnés du CFA CIAPATS pour vous donner toutes les clefs d’accès à nos formations. \n\n\n\n\n\n\n\n\n\n\n\n\n 
URL:https://www.irts-pacacorse.com/evenement/salon-de-lorientation-de-la-formation-et-de-lalternance/
CATEGORIES:Réunion d'information collective
END:VEVENT
END:VCALENDAR