BEGIN:VCALENDAR
VERSION:2.0
PRODID:-//IRTS PACA Corse - ECPv6.11.2//NONSGML v1.0//EN
CALSCALE:GREGORIAN
METHOD:PUBLISH
X-WR-CALNAME:IRTS PACA Corse
X-ORIGINAL-URL:https://www.irts-pacacorse.com
X-WR-CALDESC:Évènements pour IRTS PACA Corse
REFRESH-INTERVAL;VALUE=DURATION:PT1H
X-Robots-Tag:noindex
X-PUBLISHED-TTL:PT1H
BEGIN:VTIMEZONE
TZID:Europe/Paris
BEGIN:DAYLIGHT
TZOFFSETFROM:+0100
TZOFFSETTO:+0200
TZNAME:CEST
DTSTART:20240331T010000
END:DAYLIGHT
BEGIN:STANDARD
TZOFFSETFROM:+0200
TZOFFSETTO:+0100
TZNAME:CET
DTSTART:20241027T010000
END:STANDARD
END:VTIMEZONE
BEGIN:VEVENT
DTSTART;TZID=Europe/Paris:20240301T120000
DTEND;TZID=Europe/Paris:20240301T133000
DTSTAMP:20260422T051745
CREATED:20231128T125313Z
LAST-MODIFIED:20231128T125313Z
UID:1166-1709294400-1709299800@www.irts-pacacorse.com
SUMMARY:Réunion d'information CAFERUIS - en visioconférence
DESCRIPTION:RÉUNION INFORMATION COLLECTIVE CAFERUIS :\nRéunions d’information en visio-conférence\n\n06 novembre 2023 de 12h à 13h30\n22 novembre 2023  de 17h à 18h30\n22 décembre 2023 de 12h à 13h30\n17 janvier 2024 de 17h à 18h30\n15 février 2024 de  12h à13h30\n1er mars 2024 de  12h à13h30\n\n  \nInscription en cliquant sur le bouton ci-dessous.  Vous recevrez suite à votre inscription un lien de connexion par mail.
URL:https://www.irts-pacacorse.com/evenement/reunion-dinformation-caferuis-en-visioconference-4/
LOCATION:Visio-conférence
END:VEVENT
BEGIN:VEVENT
DTSTART;TZID=Europe/Paris:20240311T123000
DTEND;TZID=Europe/Paris:20240311T133000
DTSTAMP:20260422T051745
CREATED:20231128T101606Z
LAST-MODIFIED:20240201T132920Z
UID:1146-1710160200-1710163800@www.irts-pacacorse.com
SUMMARY:Réunion d'information DEESS - en visioconférence
DESCRIPTION:RÉUNION INFORMATION COLLECTIVE DEESS :\nDirigeant d’entreprise de l’economie sociale et solidaire\n  \nLe 1er décembre 2023 de 12h30 à 13h30 \nLe 12 décembre 2023 de 17h00 à 18h00 \nLe 10 janvier 2024 de 12h30 à 13h30 \nLe 29 janvier 2024 de 12h30 à 13h30 \nLe 12 février 2024 de 17h00 à 18h00 \nLe 11 mars 2024 de 12h30 à 13h30 \nInscription en cliquant sur le bouton ci-dessous.  \nVous recevrez suite à votre inscription un lien de connexion par mail.\n 
URL:https://www.irts-pacacorse.com/evenement/reunion-dinformation-deess-6/
LOCATION:Visio-conférence
END:VEVENT
BEGIN:VEVENT
DTSTART;TZID=Europe/Paris:20240312T150000
DTEND;TZID=Europe/Paris:20240312T170000
DTSTAMP:20260422T051745
CREATED:20240201T133234Z
LAST-MODIFIED:20240201T133234Z
UID:1950-1710255600-1710262800@www.irts-pacacorse.com
SUMMARY:Réunion d'information Médiateur Familial- en visioconférence
DESCRIPTION:RÉUNION INFORMATION COLLECTIVE MEDIATEUR FAMILIAL:\n\nLe 20/02/2024 à 10h\nLe 12/03/2024 à 15h\nLe 09/04/2024 à 13h30\nLe 22/05/2024 à 15h30\nLe 26/06/2024 à 13h\n\nInscription en cliquant sur le bouton ci-dessous.  \nVous recevrez suite à votre inscription un lien de connexion par mail.\n 
URL:https://www.irts-pacacorse.com/evenement/reunion-dinformation-mediateur-familial-en-visioconference-2/
LOCATION:Visio-conférence
END:VEVENT
END:VCALENDAR