BEGIN:VCALENDAR
VERSION:2.0
PRODID:-//IRTS PACA Corse - ECPv6.11.2//NONSGML v1.0//EN
CALSCALE:GREGORIAN
METHOD:PUBLISH
X-WR-CALNAME:IRTS PACA Corse
X-ORIGINAL-URL:https://www.irts-pacacorse.com
X-WR-CALDESC:Évènements pour IRTS PACA Corse
REFRESH-INTERVAL;VALUE=DURATION:PT1H
X-Robots-Tag:noindex
X-PUBLISHED-TTL:PT1H
BEGIN:VTIMEZONE
TZID:Europe/Paris
BEGIN:DAYLIGHT
TZOFFSETFROM:+0100
TZOFFSETTO:+0200
TZNAME:CEST
DTSTART:20250330T010000
END:DAYLIGHT
BEGIN:STANDARD
TZOFFSETFROM:+0200
TZOFFSETTO:+0100
TZNAME:CET
DTSTART:20251026T010000
END:STANDARD
END:VTIMEZONE
BEGIN:VEVENT
DTSTART;TZID=Europe/Paris:20250115T120000
DTEND;TZID=Europe/Paris:20250115T123000
DTSTAMP:20260421T132316
CREATED:20241209T100416Z
LAST-MODIFIED:20241209T124459Z
UID:3698-1736942400-1736944200@www.irts-pacacorse.com
SUMMARY:Dirigeant D’entreprise de l’Economie Sociale et Solidaire - Réunion d'information
DESCRIPTION:FORMATION DEESS– Dirigeant D’entreprise de l’Economie Sociale et Solidaire\n\nLe 15 janvier 2025 de 12h00 à 13h30\nLe 3 février 2025 de 17h00 à 18h00\nLe 7 mars 2025 de 12h00 à 13h30\nLe 1er avril 2025 de 17h00 à 18h30\nLe 13 mai 2025 de 12h00 à 13h30\nLe 2 juin 2025 de 12h30 à 13h30\n\n\nInscription en cliquant sur le bouton ci-dessous.  \nVous recevrez suite à votre inscription un lien de connexion par mail.\n 
URL:https://www.irts-pacacorse.com/evenement/dirigeant-dentreprise-de-leconomie-sociale-et-solidaire-reunion-dinformation/
LOCATION:Visio-conférence
END:VEVENT
BEGIN:VEVENT
DTSTART;TZID=Europe/Paris:20250117T093000
DTEND;TZID=Europe/Paris:20250118T170000
DTSTAMP:20260421T132316
CREATED:20241017T115947Z
LAST-MODIFIED:20241203T144215Z
UID:3608-1737106200-1737219600@www.irts-pacacorse.com
SUMMARY:IRTS PACA Corse au Salon de l'Etudiant - Parc Chanot Marseille
DESCRIPTION:Retrouvez-nous le vendredi 17 et samedi 18 janvier 2025 au Salon de l’Etudiant au Parc Chanot à Marseille\n\nNous vous attendons pour vous informer sur :\n\n Nos formations en travail social\n Les modalités de financement de vos projets\n La vie étudiante à l’ IRTS PACA Corse
URL:https://www.irts-pacacorse.com/evenement/irts-paca-corse-au-salon-de-letudiant-parc-chanot-marseille/
LOCATION:Parc Chanot\, Rond-Point du Prado\, Marseille\, 13008\, France
END:VEVENT
BEGIN:VEVENT
DTSTART;TZID=Europe/Paris:20250125T093000
DTEND;TZID=Europe/Paris:20250125T170000
DTSTAMP:20260421T132316
CREATED:20241017T120023Z
LAST-MODIFIED:20241126T094908Z
UID:3610-1737797400-1737824400@www.irts-pacacorse.com
SUMMARY:Journée Portes Ouvertes à l'IRTS PACA Corse Marseille
DESCRIPTION:A VOS AGENDAS !\nVous êtes passionné par l’aide aux autres et cherchez une carrière enrichissante dans le secteur social ou médico-social ?\nVous cherchez des formations diplômantes et professionnalisantes ?\nNe manquez pas cette opportunité pour découvrir les nombreuses formations des métiers du social et du médico-social lors de notre journée portes ouvertes à Marseille !\nSamedi 25 janvier 2025 de 10h à 17h\nau 20 bd des Salyens 13008 Marseille\nJe m’inscris en cliquant ICI
URL:https://www.irts-pacacorse.com/evenement/journee-portes-ouverts-a-lirts-paca-corse-marseille/
END:VEVENT
END:VCALENDAR