BEGIN:VCALENDAR
VERSION:2.0
PRODID:-//IRTS PACA Corse - ECPv6.11.2//NONSGML v1.0//EN
CALSCALE:GREGORIAN
METHOD:PUBLISH
X-WR-CALNAME:IRTS PACA Corse
X-ORIGINAL-URL:https://www.irts-pacacorse.com
X-WR-CALDESC:Évènements pour IRTS PACA Corse
REFRESH-INTERVAL;VALUE=DURATION:PT1H
X-Robots-Tag:noindex
X-PUBLISHED-TTL:PT1H
BEGIN:VTIMEZONE
TZID:Europe/Paris
BEGIN:DAYLIGHT
TZOFFSETFROM:+0100
TZOFFSETTO:+0200
TZNAME:CEST
DTSTART:20250330T010000
END:DAYLIGHT
BEGIN:STANDARD
TZOFFSETFROM:+0200
TZOFFSETTO:+0100
TZNAME:CET
DTSTART:20251026T010000
END:STANDARD
END:VTIMEZONE
BEGIN:VEVENT
DTSTART;TZID=Europe/Paris:20250201T100000
DTEND;TZID=Europe/Paris:20250201T170000
DTSTAMP:20260421T115325
CREATED:20241017T120100Z
LAST-MODIFIED:20241126T093602Z
UID:3612-1738404000-1738429200@www.irts-pacacorse.com
SUMMARY:Journée Portes Ouvertes à l'IRTS PACA Corse Digne-les-Bains
DESCRIPTION:A VOS AGENDAS !\nVous êtes passionné par l’aide aux autres et cherchez une carrière enrichissante dans le secteur social ou médico-social ?\nVous cherchez des formations diplômantes et professionnalisantes ?\nNe manquez pas cette opportunité pour découvrir les nombreuses formations des métiers du social et du médico-social lors de notre journée portes ouvertes à Marseille !\nSamedi 1er février 2024 de 10h à 17h\nau 9 avenue Paul Martin 04000 Digne-les-Bains\nJe m’inscris en cliquant ICI
URL:https://www.irts-pacacorse.com/evenement/journee-portes-ouvertes-a-lirts-paca-corse-digne-les-bains/
END:VEVENT
BEGIN:VEVENT
DTSTART;TZID=Europe/Paris:20250224T110000
DTEND;TZID=Europe/Paris:20250224T123000
DTSTAMP:20260421T115325
CREATED:20240219T095514Z
LAST-MODIFIED:20250219T142314Z
UID:3672-1740394800-1740400200@www.irts-pacacorse.com
SUMMARY:Réunion d'information collective Educateur de jeunes enfants (en visio)
DESCRIPTION:Nos réunions d’information sont l’occasion de : \n\nPoser vos questions sur les conditions d’admission\, les stages\, les financements….\nEchanger avec nos formateurs et notre personnel administratif\n\n  \n\n\n\n\n\n\n\n\n\n\n\n\n\n 
URL:https://www.irts-pacacorse.com/evenement/reunion-dinformation-collective-educateur-de-jeunes-enfants-en-visio/
CATEGORIES:Réunion d'information collective
END:VEVENT
BEGIN:VEVENT
DTSTART;TZID=Europe/Paris:20250225T050000
DTEND;TZID=Europe/Paris:20250225T060000
DTSTAMP:20260421T115325
CREATED:20250219T122751Z
LAST-MODIFIED:20250219T142738Z
UID:4180-1740459600-1740463200@www.irts-pacacorse.com
SUMMARY:Réunion d'information collective Educateur Spécialisé et Educateur Technique Spécialisé (en visio)
DESCRIPTION:Nos réunions d’information sont l’occasion de : \n\nPoser vos questions sur les conditions d’admission\, les stages\, les financements….\nEchanger avec nos formateurs et notre personnel administratif\n\n  \n\n\n\n\n\n\n\n\n\n\n\n 
URL:https://www.irts-pacacorse.com/evenement/reunion-dinformation-collective-educateur-specialise-et-educateur-technique-specialise-en-visio/
CATEGORIES:Réunion d'information collective
END:VEVENT
BEGIN:VEVENT
DTSTART;TZID=Europe/Paris:20250226T120000
DTEND;TZID=Europe/Paris:20250226T133000
DTSTAMP:20260421T115325
CREATED:20250219T124637Z
LAST-MODIFIED:20250224T153700Z
UID:4187-1740571200-1740576600@www.irts-pacacorse.com
SUMMARY:Réunion d'information collective CAFERUIS - Chef de Service (en visio)
DESCRIPTION:Nos réunions d’information sont l’occasion de : \n\nPoser vos questions sur les conditions d’admission\, les stages\, les financements….\nEchanger avec nos formateurs et notre personnel administratif\n\n  \n\n\n\n\n\n\n\n\n\n\n\n 
URL:https://www.irts-pacacorse.com/evenement/reunion-dinformation-collective-caferuis-en-visio/
CATEGORIES:Réunion d'information collective
END:VEVENT
BEGIN:VEVENT
DTSTART;TZID=Europe/Paris:20250226T120000
DTEND;TZID=Europe/Paris:20250226T133000
DTSTAMP:20260421T115325
CREATED:20250224T122446Z
LAST-MODIFIED:20250224T122446Z
UID:4342-1740571200-1740576600@www.irts-pacacorse.com
SUMMARY:Salon de l'orientation\, de la formation et de l'alternance
DESCRIPTION:Mercredi 26 février 2025 de 14h à 18h\n\n\n\nSalle Guy Obino\, Vitrolles \n\n\n\nVous avez entre 16 et 25 ans\, ce temps est pour vous ! \n\n\n\nComment bien préparer Parcoursup ? Comment construire son projet d’apprentissage ? Parlons-en ! \n\n\n\nVenez nous rencontrer ! Nous serons accompagnés du CFA CIAPATS pour vous donner toutes les clefs d’accès à nos formations. \n\n\n\n\n\n\n\n\n\n\n\n\n 
URL:https://www.irts-pacacorse.com/evenement/salon-de-lorientation-de-la-formation-et-de-lalternance/
CATEGORIES:Réunion d'information collective
END:VEVENT
BEGIN:VEVENT
DTSTART;TZID=Europe/Paris:20250228T100000
DTEND;TZID=Europe/Paris:20250228T113000
DTSTAMP:20260421T115325
CREATED:20250219T125104Z
LAST-MODIFIED:20250219T161924Z
UID:4189-1740736800-1740742200@www.irts-pacacorse.com
SUMMARY:Réunion d'information collective DEESS (en présentiel)
DESCRIPTION:Réunion d’information collective en présentiel pour la Formation DEESS– Dirigeant D’entreprise de l’Economie Sociale et Solidaire \nLe 28/02 de 10h à 11h30 dans les locaux des CEMEA  – 47 rue Neuve Sainte Catherine 13007 Marseille \nNous remercions CEMEA PACA de nous accueillir dans leurs locaux pour vous présenter la formation de DEESS  en présentiel. \nNos réunions d’information sont l’occasion de : \n\nPoser vos questions sur les conditions d’admission\, les stages\, les financements….\nEchanger avec nos formateurs et notre personnel administratif
URL:https://www.irts-pacacorse.com/evenement/reunion-dinformation-collective-deess-en-presentiel/
LOCATION:CEMEA 47 rue neuve sainte catherine 13007 Marseille\, 47 rue Neuve Sainte-Catherine\, Marseille\, 13007\, France
CATEGORIES:Réunion d'information collective
END:VEVENT
END:VCALENDAR